BEGIN:VCALENDAR
VERSION:2.0
PRODID:-//Winchfield Parish Council//Meeting Calendar//EN
CALSCALE:GREGORIAN
METHOD:PUBLISH
BEGIN:VEVENT
UID:70385-20220101@winchfieldparishcouncil.gov.uk
DTSTAMP:20260422T100650Z
DTSTART;VALUE=DATE:20220101
DTEND;VALUE=DATE:20220102
SUMMARY:Council Meeting -2022
DESCRIPTION:Full Council Meeting\nView details: https://winchfieldparishcouncil.gov.uk/meetings/council-meeting-2022/
URL:https://winchfieldparishcouncil.gov.uk/meetings/council-meeting-2022/
END:VEVENT
END:VCALENDAR
