BEGIN:VCALENDAR
VERSION:2.0
PRODID:-//Winchfield Parish Council//Meeting Calendar//EN
CALSCALE:GREGORIAN
METHOD:PUBLISH
BEGIN:VEVENT
UID:70474-20240129@winchfieldparishcouncil.gov.uk
DTSTAMP:20260419T172338Z
DTSTART;VALUE=DATE:20240129
DTEND;VALUE=DATE:20240130
SUMMARY:Council Meeting &#8211\\; 29th January 2024
DESCRIPTION:Full Council Meeting\nView details: https://winchfieldparishcouncil.gov.uk/meetings/council-meeting-29th-january-2024/
URL:https://winchfieldparishcouncil.gov.uk/meetings/council-meeting-29th-january-2024/
END:VEVENT
END:VCALENDAR
