BEGIN:VCALENDAR
VERSION:2.0
PRODID:-//Winchfield Parish Council//Meeting Calendar//EN
CALSCALE:GREGORIAN
METHOD:PUBLISH
BEGIN:VEVENT
UID:70503-20210110@winchfieldparishcouncil.gov.uk
DTSTAMP:20260421T083008Z
DTSTART;VALUE=DATE:20210110
DTEND;VALUE=DATE:20210111
SUMMARY:Steering Group Meeting &#8211\\; 10th January 2021
DESCRIPTION:Neighbourhood Plan Steering Group Meeting\nView details: https://winchfieldparishcouncil.gov.uk/meetings/steering-group-meeting-10th-january-2021/
URL:https://winchfieldparishcouncil.gov.uk/meetings/steering-group-meeting-10th-january-2021/
END:VEVENT
END:VCALENDAR
