BEGIN:VCALENDAR
VERSION:2.0
PRODID:-//Winchfield Parish Council//Meeting Calendar//EN
CALSCALE:GREGORIAN
METHOD:PUBLISH
BEGIN:VEVENT
UID:70521-20220110@winchfieldparishcouncil.gov.uk
DTSTAMP:20260424T085245Z
DTSTART;VALUE=DATE:20220110
DTEND;VALUE=DATE:20220111
SUMMARY:Steering Group Meeting &#8211\\; 10th January 2022
DESCRIPTION:Neighbourhood Plan Steering Group Meeting\nView details: https://winchfieldparishcouncil.gov.uk/meetings/steering-group-meeting-10th-january-2022/
URL:https://winchfieldparishcouncil.gov.uk/meetings/steering-group-meeting-10th-january-2022/
END:VEVENT
END:VCALENDAR
