BEGIN:VCALENDAR
VERSION:2.0
PRODID:-//Winchfield Parish Council//Meeting Calendar//EN
CALSCALE:GREGORIAN
METHOD:PUBLISH
BEGIN:VEVENT
UID:70553-20210412@winchfieldparishcouncil.gov.uk
DTSTAMP:20260421T082419Z
DTSTART;VALUE=DATE:20210412
DTEND;VALUE=DATE:20210413
SUMMARY:Working Group Meeting &#8211\\; 12th April 2021
DESCRIPTION:Neighbourhood Plan Working Group Meeting\nView details: https://winchfieldparishcouncil.gov.uk/meetings/working-group-meeting-12th-april-2021/
URL:https://winchfieldparishcouncil.gov.uk/meetings/working-group-meeting-12th-april-2021/
END:VEVENT
END:VCALENDAR
