BEGIN:VCALENDAR
VERSION:2.0
PRODID:-//Winchfield Parish Council//Meeting Calendar//EN
CALSCALE:GREGORIAN
METHOD:PUBLISH
BEGIN:VEVENT
UID:70573-20230109@winchfieldparishcouncil.gov.uk
DTSTAMP:20260420T113621Z
DTSTART;VALUE=DATE:20230109
DTEND;VALUE=DATE:20230110
SUMMARY:Working Group Meeting &#8211\\; 9th January 2023
DESCRIPTION:Neighbourhood Plan Working Group Meeting\nView details: https://winchfieldparishcouncil.gov.uk/meetings/working-group-meeting-9th-january-2023/
URL:https://winchfieldparishcouncil.gov.uk/meetings/working-group-meeting-9th-january-2023/
END:VEVENT
END:VCALENDAR
