BEGIN:VCALENDAR
VERSION:2.0
PRODID:-//Winchfield Parish Council//Meeting Calendar//EN
CALSCALE:GREGORIAN
METHOD:PUBLISH
BEGIN:VEVENT
UID:71217-20250120@winchfieldparishcouncil.gov.uk
DTSTAMP:20260419T152357Z
DTSTART;VALUE=DATE:20250120
DTEND;VALUE=DATE:20250121
SUMMARY:Council Meeting &#8211\\; 20 January 2025
DESCRIPTION:Full Council Meeting\nView details: https://winchfieldparishcouncil.gov.uk/meetings/council-meeting-2/
URL:https://winchfieldparishcouncil.gov.uk/meetings/council-meeting-2/
END:VEVENT
END:VCALENDAR
