BEGIN:VCALENDAR
VERSION:2.0
PRODID:-//Winchfield Parish Council//Meeting Calendar//EN
CALSCALE:GREGORIAN
METHOD:PUBLISH
BEGIN:VEVENT
UID:71218-20250317@winchfieldparishcouncil.gov.uk
DTSTAMP:20260419T154129Z
DTSTART;VALUE=DATE:20250317
DTEND;VALUE=DATE:20250318
SUMMARY:Council Meeting &#8211\\; 17 March 2025
DESCRIPTION:Full Council Meeting\nView details: https://winchfieldparishcouncil.gov.uk/meetings/council-meeting-17-march-2025/
URL:https://winchfieldparishcouncil.gov.uk/meetings/council-meeting-17-march-2025/
END:VEVENT
END:VCALENDAR
